BEGIN:VCALENDAR
VERSION:2.0
PRODID:-//173.82.8.58//NONSGML kigkonsult.se iCalcreator 2.26.9//
CALSCALE:GREGORIAN
METHOD:PUBLISH
X-WR-CALNAME:Whitehorn Apartments
X-WR-CALDESC:Jindabyne Accommodation
X-FROM-URL:http://whitehornapartments.com.au
X-WR-TIMEZONE:Atlantic/Azores
BEGIN:VTIMEZONE
TZID:Atlantic/Azores
X-LIC-LOCATION:Atlantic/Azores
BEGIN:STANDARD
DTSTART:20191027T010000
TZOFFSETFROM:+0000
TZOFFSETTO:-0100
RDATE:20201025T010000
TZNAME:-01
END:STANDARD
BEGIN:DAYLIGHT
DTSTART:20200329T000000
TZOFFSETFROM:-0100
TZOFFSETTO:+0000
RDATE:20210328T000000
TZNAME:+00
END:DAYLIGHT
END:VTIMEZONE
BEGIN:VEVENT
UID:ai1ec-829@whitehornapartments.com.au
DTSTAMP:20200226T232029Z
CATEGORIES:
CONTACT:PERISHER\; 1300 811 324\; http://peakfestival.com.au/
DESCRIPTION:<p>Tickets: <a class='ai1ec-ticket-url-exported' href='http://p
 eakfestival.com.au/2018-festival-passes/'>http://peakfestival.com.au/2018-
 festival-passes/</a>.</p>
DTSTART;TZID=Atlantic/Azores:20180608T005900
DTEND;TZID=Atlantic/Azores:20180611T015900
LOCATION:PERISHER  @ SNOWY MOUNTAINS PERISHER
SEQUENCE:0
SUMMARY:PEAK MUSIC FESTIVAL
URL:http://whitehornapartments.com.au/event/peak-music-festival/
X-COST-TYPE:external
X-TICKETS-URL:http://peakfestival.com.au/2018-festival-passes/
END:VEVENT
END:VCALENDAR
